BEGIN:VCALENDAR
VERSION:2.0
PRODID:-//Star Media Group Berhad - ECPv6.5.1.5//NONSGML v1.0//EN
CALSCALE:GREGORIAN
METHOD:PUBLISH
X-ORIGINAL-URL:https://www.starmediagroup.my
X-WR-CALDESC:Events for Star Media Group Berhad
REFRESH-INTERVAL;VALUE=DURATION:PT1H
X-Robots-Tag:noindex
X-PUBLISHED-TTL:PT1H
BEGIN:VTIMEZONE
TZID:Asia/Shanghai
BEGIN:STANDARD
TZOFFSETFROM:+0800
TZOFFSETTO:+0800
TZNAME:CST
DTSTART:20150101T000000
END:STANDARD
END:VTIMEZONE
BEGIN:VEVENT
DTSTART;TZID=Asia/Shanghai:20151116T170000
DTEND;TZID=Asia/Shanghai:20151116T190000
DTSTAMP:20260423T003732
CREATED:20150710T035934Z
LAST-MODIFIED:20151113T032843Z
UID:5713-1447693200-1447700400@www.starmediagroup.my
SUMMARY:Release of Q3 2015 results
DESCRIPTION:
URL:https://www.starmediagroup.my/event/release-of-q3-2015-results/
CATEGORIES:Quarterly Report
END:VEVENT
END:VCALENDAR